BEGIN:VCALENDAR
VERSION:2.0
PRODID:-//Moskitos Fanclub - ECPv6.15.20//NONSGML v1.0//EN
CALSCALE:GREGORIAN
METHOD:PUBLISH
X-WR-CALNAME:Moskitos Fanclub
X-ORIGINAL-URL:https://www.moskitos-fanclub.de
X-WR-CALDESC:Veranstaltungen für Moskitos Fanclub
REFRESH-INTERVAL;VALUE=DURATION:PT1H
X-Robots-Tag:noindex
X-PUBLISHED-TTL:PT1H
BEGIN:VTIMEZONE
TZID:Europe/Berlin
BEGIN:DAYLIGHT
TZOFFSETFROM:+0100
TZOFFSETTO:+0200
TZNAME:CEST
DTSTART:20230326T010000
END:DAYLIGHT
BEGIN:STANDARD
TZOFFSETFROM:+0200
TZOFFSETTO:+0100
TZNAME:CET
DTSTART:20231029T010000
END:STANDARD
BEGIN:DAYLIGHT
TZOFFSETFROM:+0100
TZOFFSETTO:+0200
TZNAME:CEST
DTSTART:20240331T010000
END:DAYLIGHT
BEGIN:STANDARD
TZOFFSETFROM:+0200
TZOFFSETTO:+0100
TZNAME:CET
DTSTART:20241027T010000
END:STANDARD
BEGIN:DAYLIGHT
TZOFFSETFROM:+0100
TZOFFSETTO:+0200
TZNAME:CEST
DTSTART:20250330T010000
END:DAYLIGHT
BEGIN:STANDARD
TZOFFSETFROM:+0200
TZOFFSETTO:+0100
TZNAME:CET
DTSTART:20251026T010000
END:STANDARD
END:VTIMEZONE
BEGIN:VEVENT
DTSTART;TZID=Europe/Berlin:20240104T190000
DTEND;TZID=Europe/Berlin:20240104T190000
DTSTAMP:20260420T072720
CREATED:20230718T193755Z
LAST-MODIFIED:20230718T193827Z
UID:817-1704394800-1704394800@www.moskitos-fanclub.de
SUMMARY:TSV Haching München - SWD Powervolleys
DESCRIPTION:
URL:https://www.moskitos-fanclub.de/termin/tsv-haching-muenchen-swd-powervolleys/
LOCATION:Geothermie-Arena\, Utzweg 1\, Unterhaching\, 82008\, Deutschland
CATEGORIES:Bundesliga
END:VEVENT
BEGIN:VEVENT
DTSTART;TZID=Europe/Berlin:20240106T183000
DTEND;TZID=Europe/Berlin:20240106T183000
DTSTAMP:20260420T072720
CREATED:20230718T193953Z
LAST-MODIFIED:20230718T193954Z
UID:820-1704565800-1704565800@www.moskitos-fanclub.de
SUMMARY:Helios Grizzlys Giesen - SWD Powervolleys
DESCRIPTION:
URL:https://www.moskitos-fanclub.de/termin/helios-grizzlys-giesen-swd-powervolleys/
LOCATION:Sparkassen-Arena\, Pappelallee 1\, Hildesheim\, 31137\, Germany
CATEGORIES:Bundesliga
END:VEVENT
BEGIN:VEVENT
DTSTART;TZID=Europe/Berlin:20240113T200000
DTEND;TZID=Europe/Berlin:20240113T200000
DTSTAMP:20260420T072720
CREATED:20230718T194111Z
LAST-MODIFIED:20230718T194112Z
UID:823-1705176000-1705176000@www.moskitos-fanclub.de
SUMMARY:ASV Dachau - SWD Powervolleys
DESCRIPTION:
URL:https://www.moskitos-fanclub.de/termin/asv-dachau-swd-powervolleys/
LOCATION:Georg-Scherer-Halle\, Gröbenrieder Straße 21\, Dachau\, 85221\, Deutschland
CATEGORIES:Bundesliga
END:VEVENT
BEGIN:VEVENT
DTSTART;TZID=Europe/Berlin:20240121T173000
DTEND;TZID=Europe/Berlin:20240121T173000
DTSTAMP:20260420T072720
CREATED:20230718T194243Z
LAST-MODIFIED:20230718T194244Z
UID:826-1705858200-1705858200@www.moskitos-fanclub.de
SUMMARY:SWD Powervolleys - Netzhoppers KW-Bestensee
DESCRIPTION:
URL:https://www.moskitos-fanclub.de/termin/swd-powervolleys-netzhoppers-kw-bestensee/
LOCATION:Arena Kreis Düren\, Nippesstraße 4\, Düren\, 52349\, Deutschland
CATEGORIES:Bundesliga
END:VEVENT
BEGIN:VEVENT
DTSTART;TZID=Europe/Berlin:20240127T200000
DTEND;TZID=Europe/Berlin:20240127T200000
DTSTAMP:20260420T072720
CREATED:20230718T194448Z
LAST-MODIFIED:20230718T194523Z
UID:829-1706385600-1706385600@www.moskitos-fanclub.de
SUMMARY:FT 1844 Freiburg - SWD Powervolleys
DESCRIPTION:
URL:https://www.moskitos-fanclub.de/termin/ft-1844-freiburg-swd-powervolleys/
LOCATION:Act-Now-Halle\, Schwarzwaldstraße 181\, Freiburg\, 79117
CATEGORIES:Bundesliga
END:VEVENT
END:VCALENDAR