BEGIN:VCALENDAR
VERSION:2.0
PRODID:-//Moskitos Fanclub - ECPv6.15.20//NONSGML v1.0//EN
CALSCALE:GREGORIAN
METHOD:PUBLISH
X-WR-CALNAME:Moskitos Fanclub
X-ORIGINAL-URL:https://www.moskitos-fanclub.de
X-WR-CALDESC:Veranstaltungen für Moskitos Fanclub
REFRESH-INTERVAL;VALUE=DURATION:PT1H
X-Robots-Tag:noindex
X-PUBLISHED-TTL:PT1H
BEGIN:VTIMEZONE
TZID:Europe/Berlin
BEGIN:DAYLIGHT
TZOFFSETFROM:+0100
TZOFFSETTO:+0200
TZNAME:CEST
DTSTART:20230326T010000
END:DAYLIGHT
BEGIN:STANDARD
TZOFFSETFROM:+0200
TZOFFSETTO:+0100
TZNAME:CET
DTSTART:20231029T010000
END:STANDARD
BEGIN:DAYLIGHT
TZOFFSETFROM:+0100
TZOFFSETTO:+0200
TZNAME:CEST
DTSTART:20240331T010000
END:DAYLIGHT
BEGIN:STANDARD
TZOFFSETFROM:+0200
TZOFFSETTO:+0100
TZNAME:CET
DTSTART:20241027T010000
END:STANDARD
BEGIN:DAYLIGHT
TZOFFSETFROM:+0100
TZOFFSETTO:+0200
TZNAME:CEST
DTSTART:20250330T010000
END:DAYLIGHT
BEGIN:STANDARD
TZOFFSETFROM:+0200
TZOFFSETTO:+0100
TZNAME:CET
DTSTART:20251026T010000
END:STANDARD
END:VTIMEZONE
BEGIN:VEVENT
DTSTART;TZID=Europe/Berlin:20240210T170000
DTEND;TZID=Europe/Berlin:20240210T170000
DTSTAMP:20260420T072620
CREATED:20230718T194908Z
LAST-MODIFIED:20230718T194908Z
UID:835-1707584400-1707584400@www.moskitos-fanclub.de
SUMMARY:Baden Volleys SSC Karlsruhe - SWD Powervolleys
DESCRIPTION:
URL:https://www.moskitos-fanclub.de/termin/baden-volleys-ssc-karlsruhe-swd-powervolleys/
LOCATION:Lina-Radke-Halle\, Steinhäuserstraße 29\, 76135\, Karlsruhe\, Deutschland
CATEGORIES:Bundesliga
END:VEVENT
END:VCALENDAR