BEGIN:VCALENDAR
VERSION:2.0
PRODID:-//Moskitos Fanclub - ECPv6.15.20//NONSGML v1.0//EN
CALSCALE:GREGORIAN
METHOD:PUBLISH
X-ORIGINAL-URL:https://www.moskitos-fanclub.de
X-WR-CALDESC:Veranstaltungen für Moskitos Fanclub
REFRESH-INTERVAL;VALUE=DURATION:PT1H
X-Robots-Tag:noindex
X-PUBLISHED-TTL:PT1H
BEGIN:VTIMEZONE
TZID:Europe/Berlin
BEGIN:DAYLIGHT
TZOFFSETFROM:+0100
TZOFFSETTO:+0200
TZNAME:CEST
DTSTART:20230326T010000
END:DAYLIGHT
BEGIN:STANDARD
TZOFFSETFROM:+0200
TZOFFSETTO:+0100
TZNAME:CET
DTSTART:20231029T010000
END:STANDARD
BEGIN:DAYLIGHT
TZOFFSETFROM:+0100
TZOFFSETTO:+0200
TZNAME:CEST
DTSTART:20240331T010000
END:DAYLIGHT
BEGIN:STANDARD
TZOFFSETFROM:+0200
TZOFFSETTO:+0100
TZNAME:CET
DTSTART:20241027T010000
END:STANDARD
BEGIN:DAYLIGHT
TZOFFSETFROM:+0100
TZOFFSETTO:+0200
TZNAME:CEST
DTSTART:20250330T010000
END:DAYLIGHT
BEGIN:STANDARD
TZOFFSETFROM:+0200
TZOFFSETTO:+0100
TZNAME:CET
DTSTART:20251026T010000
END:STANDARD
END:VTIMEZONE
BEGIN:VEVENT
DTSTART;TZID=Europe/Berlin:20240106T183000
DTEND;TZID=Europe/Berlin:20240106T183000
DTSTAMP:20260420T091755
CREATED:20230718T193953Z
LAST-MODIFIED:20230718T193954Z
UID:820-1704565800-1704565800@www.moskitos-fanclub.de
SUMMARY:Helios Grizzlys Giesen - SWD Powervolleys
DESCRIPTION:
URL:https://www.moskitos-fanclub.de/termin/helios-grizzlys-giesen-swd-powervolleys/
LOCATION:Sparkassen-Arena\, Pappelallee 1\, Hildesheim\, 31137\, Germany
CATEGORIES:Bundesliga
END:VEVENT
END:VCALENDAR