BEGIN:VCALENDAR
VERSION:2.0
PRODID:-//Moskitos Fanclub - ECPv6.15.20//NONSGML v1.0//EN
CALSCALE:GREGORIAN
METHOD:PUBLISH
X-ORIGINAL-URL:https://www.moskitos-fanclub.de
X-WR-CALDESC:Veranstaltungen für Moskitos Fanclub
REFRESH-INTERVAL;VALUE=DURATION:PT1H
X-Robots-Tag:noindex
X-PUBLISHED-TTL:PT1H
BEGIN:VTIMEZONE
TZID:Europe/Berlin
BEGIN:DAYLIGHT
TZOFFSETFROM:+0100
TZOFFSETTO:+0200
TZNAME:CEST
DTSTART:20220327T010000
END:DAYLIGHT
BEGIN:STANDARD
TZOFFSETFROM:+0200
TZOFFSETTO:+0100
TZNAME:CET
DTSTART:20221030T010000
END:STANDARD
BEGIN:DAYLIGHT
TZOFFSETFROM:+0100
TZOFFSETTO:+0200
TZNAME:CEST
DTSTART:20230326T010000
END:DAYLIGHT
BEGIN:STANDARD
TZOFFSETFROM:+0200
TZOFFSETTO:+0100
TZNAME:CET
DTSTART:20231029T010000
END:STANDARD
BEGIN:DAYLIGHT
TZOFFSETFROM:+0100
TZOFFSETTO:+0200
TZNAME:CEST
DTSTART:20240331T010000
END:DAYLIGHT
BEGIN:STANDARD
TZOFFSETFROM:+0200
TZOFFSETTO:+0100
TZNAME:CET
DTSTART:20241027T010000
END:STANDARD
END:VTIMEZONE
BEGIN:VEVENT
DTSTART;TZID=Europe/Berlin:20231220T200000
DTEND;TZID=Europe/Berlin:20231220T200000
DTSTAMP:20260422T110722
CREATED:20231204T141355Z
LAST-MODIFIED:20231204T141356Z
UID:1427-1703102400-1703102400@www.moskitos-fanclub.de
SUMMARY:AONS Milon Nea Smyrni Athen - SWD Powervolleys
DESCRIPTION:CEV-Pokal Achtelfinale Rückspiel
URL:https://www.moskitos-fanclub.de/termin/aons-milon-nea-smyrni-athen-swd-powervolleys/
LOCATION:Kroisos Persis Nea Smyrni\, Vasiliou Tou Megalou\, Nea Smirni\, Griechenland
CATEGORIES:CEV-Pokal
END:VEVENT
END:VCALENDAR