BEGIN:VCALENDAR
VERSION:2.0
PRODID:-//Moskitos Fanclub - ECPv6.15.20//NONSGML v1.0//EN
CALSCALE:GREGORIAN
METHOD:PUBLISH
X-ORIGINAL-URL:https://www.moskitos-fanclub.de
X-WR-CALDESC:Veranstaltungen für Moskitos Fanclub
REFRESH-INTERVAL;VALUE=DURATION:PT1H
X-Robots-Tag:noindex
X-PUBLISHED-TTL:PT1H
BEGIN:VTIMEZONE
TZID:Europe/Berlin
BEGIN:DAYLIGHT
TZOFFSETFROM:+0100
TZOFFSETTO:+0200
TZNAME:CEST
DTSTART:20220327T010000
END:DAYLIGHT
BEGIN:STANDARD
TZOFFSETFROM:+0200
TZOFFSETTO:+0100
TZNAME:CET
DTSTART:20221030T010000
END:STANDARD
BEGIN:DAYLIGHT
TZOFFSETFROM:+0100
TZOFFSETTO:+0200
TZNAME:CEST
DTSTART:20230326T010000
END:DAYLIGHT
BEGIN:STANDARD
TZOFFSETFROM:+0200
TZOFFSETTO:+0100
TZNAME:CET
DTSTART:20231029T010000
END:STANDARD
BEGIN:DAYLIGHT
TZOFFSETFROM:+0100
TZOFFSETTO:+0200
TZNAME:CEST
DTSTART:20240331T010000
END:DAYLIGHT
BEGIN:STANDARD
TZOFFSETFROM:+0200
TZOFFSETTO:+0100
TZNAME:CET
DTSTART:20241027T010000
END:STANDARD
END:VTIMEZONE
BEGIN:VEVENT
DTSTART;TZID=Europe/Berlin:20231130T190000
DTEND;TZID=Europe/Berlin:20231130T190000
DTSTAMP:20260420T104752
CREATED:20230722T133505Z
LAST-MODIFIED:20231111T205021Z
UID:885-1701370800-1701370800@www.moskitos-fanclub.de
SUMMARY:SWD Powervolleys - OK Strumica
DESCRIPTION:Im 1/16-Finale des CEV-Pokals treffen unsere SWD Powervolleys auf OK Strumica. Die Mannschaft aus Nordmazedonien belegte zuvor in Pool I der ersten Runde Champions League den letzten Platz.
URL:https://www.moskitos-fanclub.de/termin/swd-powervolleys-absteiger-cl/
LOCATION:Arena Kreis Düren\, Nippesstraße 4\, Düren\, 52349\, Deutschland
CATEGORIES:CEV-Pokal
END:VEVENT
END:VCALENDAR