BEGIN:VCALENDAR
VERSION:2.0
PRODID:-//Moskitos Fanclub - ECPv6.15.20//NONSGML v1.0//EN
CALSCALE:GREGORIAN
METHOD:PUBLISH
X-ORIGINAL-URL:https://www.moskitos-fanclub.de
X-WR-CALDESC:Veranstaltungen für Moskitos Fanclub
REFRESH-INTERVAL;VALUE=DURATION:PT1H
X-Robots-Tag:noindex
X-PUBLISHED-TTL:PT1H
BEGIN:VTIMEZONE
TZID:Europe/Berlin
BEGIN:DAYLIGHT
TZOFFSETFROM:+0100
TZOFFSETTO:+0200
TZNAME:CEST
DTSTART:20220327T010000
END:DAYLIGHT
BEGIN:STANDARD
TZOFFSETFROM:+0200
TZOFFSETTO:+0100
TZNAME:CET
DTSTART:20221030T010000
END:STANDARD
BEGIN:DAYLIGHT
TZOFFSETFROM:+0100
TZOFFSETTO:+0200
TZNAME:CEST
DTSTART:20230326T010000
END:DAYLIGHT
BEGIN:STANDARD
TZOFFSETFROM:+0200
TZOFFSETTO:+0100
TZNAME:CET
DTSTART:20231029T010000
END:STANDARD
BEGIN:DAYLIGHT
TZOFFSETFROM:+0100
TZOFFSETTO:+0200
TZNAME:CEST
DTSTART:20240331T010000
END:DAYLIGHT
BEGIN:STANDARD
TZOFFSETFROM:+0200
TZOFFSETTO:+0100
TZNAME:CET
DTSTART:20241027T010000
END:STANDARD
END:VTIMEZONE
BEGIN:VEVENT
DTSTART;VALUE=DATE:20231020
DTEND;VALUE=DATE:20231023
DTSTAMP:20260421T050440
CREATED:20230617T203622Z
LAST-MODIFIED:20230630T135458Z
UID:126-1697760000-1698019199@www.moskitos-fanclub.de
SUMMARY:Bounce House Cup
DESCRIPTION:Die Saison 2023/24 beginnt wieder mit dem Bounce House Cup. Schon vor dem ersten Bundesliga-Spieltag treffen sich alle Bundesligisten zu diesem Turnier. So haben auch wir Fans die Möglichkeit\, alle Teams in der neuen Besetzung zu erleben. Austragungsort ist wie bei der Premiere 2022 erneut die Volksbank-Arena\, die Heimstätte der Helios Grizzlys Giesen.
URL:https://www.moskitos-fanclub.de/termin/bounce-house-cup/
LOCATION:Sparkassen-Arena\, Pappelallee 1\, Hildesheim\, 31137\, Germany
CATEGORIES:Ligacup
END:VEVENT
END:VCALENDAR